BEGIN:VCALENDAR
VERSION:2.0
PRODID:-//MBO ITALIA - ECPv6.15.20//NONSGML v1.0//EN
CALSCALE:GREGORIAN
METHOD:PUBLISH
X-WR-CALNAME:MBO ITALIA
X-ORIGINAL-URL:https://mboitalia.com
X-WR-CALDESC:Events for MBO ITALIA
REFRESH-INTERVAL;VALUE=DURATION:PT1H
X-Robots-Tag:noindex
X-PUBLISHED-TTL:PT1H
BEGIN:VTIMEZONE
TZID:UTC
BEGIN:STANDARD
TZOFFSETFROM:+0000
TZOFFSETTO:+0000
TZNAME:UTC
DTSTART:20240101T000000
END:STANDARD
END:VTIMEZONE
BEGIN:VEVENT
DTSTART;VALUE=DATE:20250414
DTEND;VALUE=DATE:20250417
DTSTAMP:20260424T192419
CREATED:20241216T112705Z
LAST-MODIFIED:20241216T112705Z
UID:3605-1744588800-1744847999@mboitalia.com
SUMMARY:Dubai World Dermatology and Laser Conference & Exhibition
DESCRIPTION:M.B.O Italia\, a global pioneer in regenerative beauty and medical aesthetics\, is delighted to announce its participation in Dubai Derma 2025. Taking place in the vibrant city of Dubai\, UAE\, this prestigious event brings together dermatologists\, aesthetic professionals\, and industry leaders from around the world to explore the latest innovations in skin and hair care. \nDubai Derma Conference presents a 3 day comprehensive scientific program on the latest advances and researches in Dermatology\, Aesthetics and Laser. Attendance Certificate\, Verification of Participation (CME) and Conference Materials.
URL:https://mboitalia.com/event/dubai-world-dermatology-and-laser-conference-exhibition/
LOCATION:MBO ITALIA\, IMCAS C/O Comexposium Healthcare\, Paris\, Paris\, France
CATEGORIES:Beauty and Cosmetics
ATTACH;FMTTYPE=image/jpeg:https://mboitalia.com/wp-content/uploads/2024/12/Dubai-Derma.jpg
ORGANIZER;CN="Dubai Derma":MAILTO:nicolie.desilva@index.ae
END:VEVENT
BEGIN:VEVENT
DTSTART;VALUE=DATE:20250130
DTEND;VALUE=DATE:20250202
DTSTAMP:20260424T192419
CREATED:20241216T103548Z
LAST-MODIFIED:20241216T104055Z
UID:3596-1738195200-1738454399@mboitalia.com
SUMMARY:IMCAS World Congress 2025
DESCRIPTION:The 2025 IMCAS World Congress promises to be one of the most highly anticipated events in the dermatology\, plastic surgery\, and aging science community. Gathering in Paris\, the congress will be providing a global overview of the latest breakthroughs and innovations in our community\, as well as being the epicenter of the market with more than 350 exhibitors showcasing their products. Due to the high volume of attendees in 2024\, please consider booking sooner rather than later\, to ensure your attendance! \nM.B.O Italia\, a global leader in cutting-edge medical aesthetics and regenerative solutions\, is proud to announce its participation in IMCAS 2025—one of the most prestigious events in the field of dermatology\, aesthetics\, and plastic surgery. Taking place in Paris\, France\, IMCAS 2025 offers an unparalleled platform for experts\, practitioners\, and innovators to collaborate and shape the future of beauty and wellness.
URL:https://mboitalia.com/event/imcas-world-congress-2025/
LOCATION:MBO ITALIA\, IMCAS C/O Comexposium Healthcare\, Paris\, Paris\, France
CATEGORIES:Beauty and Cosmetics
ATTACH;FMTTYPE=image/jpeg:https://mboitalia.com/wp-content/uploads/2024/12/imcas2025-1.jpg
ORGANIZER;CN="IMCAS WORLDWIDE":MAILTO:info@imcas.com
END:VEVENT
END:VCALENDAR